BEGIN:VCALENDAR
VERSION:2.0
PRODID:icalendar-ruby
CALSCALE:GREGORIAN
METHOD:PUBLISH
BEGIN:VEVENT
DTSTAMP:20260424T153445Z
UID:99-119707@cslkauai.org
DTSTART:20260527T040000Z
DTEND:20260527T053000Z
CLASS:PUBLIC
CREATED:20260415T105059
DESCRIPTION:Experience a 90-minute immerseive sound healing journey with pr
 ofessional sound healer Isha. Bathe in the frequencies of healing and expe
 rience rest\, relaxation\, stress release\, energetic balance and more...\
 n$30 in advance\n$35 at the door
LAST-MODIFIED:20260415T105059
LOCATION:4-1170 Kuhio Highway\, Kapaa - CSL Kaua'i
SUMMARY:A Sacred Sound Bath Journey with Isha
URL;VALUE=URI:https://www.cslkauai.org/events/a-sacred-sound-bath-journey-w
 ith-isha/2026-05-26
ATTACH;FILENAME=Isha-April-Flyer.jpg;FMTTYPE=image/jpeg:https://dq5pwpg1q8r
 u0.cloudfront.net/2026/04/15/20/50/06/65f94682-7706-48f1-bfbf-3be298abbb87
 /Isha-April-Flyer.jpg
END:VEVENT
END:VCALENDAR
